BEGIN:VCALENDAR
VERSION:2.0
PRODID:-//wp-events-plugin.com//7.2.3.1//EN
TZID:Europe/Paris
X-WR-TIMEZONE:Europe/Paris
BEGIN:VEVENT
UID:315@jegrimpe85.com
DTSTART;TZID=Europe/Paris:20230610T090000
DTEND;TZID=Europe/Paris:20230610T140000
DTSTAMP:20230423T203008Z
URL:https://jegrimpe85.com/events/sortie-falaise-groupe-11-14-ans/
SUMMARY:Sortie falaise groupe 11-14 ans
DESCRIPTION:Sortie falaise organisé par Laurent pour son  groupe (enfants
  11-14 ans) sur le site de La Boissière\, à Mouchamps\n\nGrimpe de 10h 
 à 13h puis pique nique.\nCôté organisation\, plusieurs possibilités:\n
 \n\n 	départ collectif à 9h de Saligny (minibus de la commune - 8 places
 )\n 	départ en co-voiturage à 9h de Saligny\n 	rendez-vous directement s
 ur le site à 10h\n\n\n\n 	pique-nique à prévoir\n\nLa présence des par
 ents est acceptée avec grand plaisir.\n\n
ATTACH;FMTTYPE=image/jpeg:https://jegrimpe85.com/wp-content/uploads/2019/1
 2/grimpeur_vert.png
CATEGORIES:Sortie
END:VEVENT
BEGIN:VTIMEZONE
TZID:Europe/Paris
X-LIC-LOCATION:Europe/Paris
BEGIN:DAYLIGHT
DTSTART:20230326T030000
TZOFFSETFROM:+0100
TZOFFSETTO:+0200
TZNAME:CEST
END:DAYLIGHT
END:VTIMEZONE
END:VCALENDAR