BEGIN:VCALENDAR
VERSION:2.0
PRODID:-//wp-events-plugin.com//7.2.3.1//EN
TZID:Europe/Paris
X-WR-TIMEZONE:Europe/Paris
BEGIN:VEVENT
UID:1297@jegrimpe85.com
DTSTART;TZID=Europe/Paris:20260117T094500
DTEND;TZID=Europe/Paris:20260117T180000
DTSTAMP:20260102T132257Z
URL:https://jegrimpe85.com/events/premiere-etape-de-la-coupe-des-jeunes-gr
 impeurs-vendeens/
SUMMARY:Première étape de la Coupe des Jeunes Grimpeurs Vendéens
DESCRIPTION:​Le club Je Grimpe 85 lance la saison ! Nous accueillons avec
  plaisir la première étape de la Coupe des Jeunes Grimpeurs Vendéens. C
 'est l'occasion idéale pour nos jeunes (catégories U11 à U17) de releve
 r de nouveaux défis sur notre mur dans une ambiance conviviale.\n​Inscr
 iptions :\nIl reste des places ! Pour participer\, merci de remplir le for
 mulaire ici :\n👉 Lien d'inscription Compétition\n​Bénévolat :\nPou
 r offrir la meilleure expérience possible aux enfants\, nous avons besoin
  de quelques parents pour nous accompagner (assurage\, jugement\, buvette)
 . Si vous avez un peu de temps à nous accorder\, inscrivez-vous ici :\n
 👉 Lien d'inscription Bénévoles\n​On vous attend nombreux pour encou
 rager nos grimpeurs !
ATTACH;FMTTYPE=image/jpeg:https://jegrimpe85.com/wp-content/uploads/2026/0
 1/file_00000000ef10720c91ba757433903df5.png
CATEGORIES:Vie du club
LOCATION:Saligny\, Salle de sport\, SALIGNY\, Vendée\, 85170\, France
X-APPLE-STRUCTURED-LOCATION;VALUE=URI;X-ADDRESS=Salle de sport\, SALIGNY\, 
 Vendée\, 85170\, France;X-APPLE-RADIUS=100;X-TITLE=Saligny:geo:0,0
END:VEVENT
BEGIN:VTIMEZONE
TZID:Europe/Paris
X-LIC-LOCATION:Europe/Paris
BEGIN:STANDARD
DTSTART:20251026T020000
TZOFFSETFROM:+0200
TZOFFSETTO:+0100
TZNAME:CET
END:STANDARD
END:VTIMEZONE
END:VCALENDAR