BEGIN:VCALENDAR
VERSION:2.0
PRODID:-//wp-events-plugin.com//7.2.3.1//EN
TZID:Europe/Paris
X-WR-TIMEZONE:Europe/Paris
BEGIN:VEVENT
UID:1250@jegrimpe85.com
DTSTART;TZID=Europe/Paris:20250118T134500
DTEND;TZID=Europe/Paris:20250118T170000
DTSTAMP:20250102T180148Z
URL:https://jegrimpe85.com/events/etape-coupe-microbes-poussins-benjamin-d
 e-montaigu/
SUMMARY:Etape Coupe Microbes\, Poussins\, Benjamin de Montaigu.
DESCRIPTION:2eme étape la CMPB qui se déroule à Montaigu.\n\nPlus d'info
 rmations sur ici.
ATTACH;FMTTYPE=image/jpeg:https://jegrimpe85.com/wp-content/uploads/2025/0
 1/CMPB_montaigu.jpg
CATEGORIES:Compétition
LOCATION:Les chamois du Mont Aigu\, 35 Rue du Fromenteau\, La Guyonnière\,
  85600 \, France
X-APPLE-STRUCTURED-LOCATION;VALUE=URI;X-ADDRESS=35 Rue du Fromenteau\, La G
 uyonnière\, 85600 \, France;X-APPLE-RADIUS=100;X-TITLE=Les chamois du Mon
 t Aigu:geo:0,0
END:VEVENT
BEGIN:VTIMEZONE
TZID:Europe/Paris
X-LIC-LOCATION:Europe/Paris
BEGIN:STANDARD
DTSTART:20241027T020000
TZOFFSETFROM:+0200
TZOFFSETTO:+0100
TZNAME:CET
END:STANDARD
END:VTIMEZONE
END:VCALENDAR