BEGIN:VCALENDAR
VERSION:2.0
PRODID:-//wp-events-plugin.com//7.2.3.1//EN
TZID:Europe/Paris
X-WR-TIMEZONE:Europe/Paris
BEGIN:VEVENT
UID:1303@jegrimpe85.com
DTSTART;TZID=Europe/Paris:20260328T140000
DTEND;TZID=Europe/Paris:20260328T170000
DTSTAMP:20260119T201042Z
URL:https://jegrimpe85.com/events/echange-interclubs-5/
SUMMARY:Echange Interclubs
DESCRIPTION:Lien pour les inscriptions:CT85 FFME - Rencontres interclubs
ATTACH;FMTTYPE=image/jpeg:https://jegrimpe85.com/wp-content/uploads/2026/0
 1/241624956_2047218835430833_3546953322020022133_n.png
CATEGORIES:Ouvert
END:VEVENT
BEGIN:VTIMEZONE
TZID:Europe/Paris
X-LIC-LOCATION:Europe/Paris
BEGIN:STANDARD
DTSTART:20251026T020000
TZOFFSETFROM:+0200
TZOFFSETTO:+0100
TZNAME:CET
END:STANDARD
END:VTIMEZONE
END:VCALENDAR