BEGIN:VCALENDAR
VERSION:2.0
PRODID:-//wp-events-plugin.com//7.2.3.1//EN
TZID:Europe/Paris
X-WR-TIMEZONE:Europe/Paris
BEGIN:VEVENT
UID:1302@jegrimpe85.com
DTSTART;TZID=Europe/Paris:20260222T100000
DTEND;TZID=Europe/Paris:20260222T170000
DTSTAMP:20260120T181940Z
URL:https://jegrimpe85.com/events/echange-interclubs-4/
SUMMARY:Echange Interclubs
DESCRIPTION:\n\nLe 22 février\, le club de Pouzauges vous ouvre ses portes
  et vous invite à venir découvrir la centaine de voies (du 4a au 8a) qui
  couvrent son mur.\nLe début de la journée est prévu à 10h00\, la fin 
 à 17h00. Vous pouvez vous inscrire via ce lien (également présent sur
  le site du CT).\nLibre à vous de venir uniquement le matin ou l’après
 -midi\, si vous le souhaitez.\nN’hésitez pas à revenir vers moi si vou
 s avez des questions.\nBonne journée\,\nCordialement\,\n\n\n\n\n--\n\n\n\
 n\n\nhttps://sites.google.com/site/escaladeduhautbocage/\n\n
ATTACH;FMTTYPE=image/jpeg:https://jegrimpe85.com/wp-content/uploads/2026/0
 1/OIP.webp
CATEGORIES:Sortie,Vie du club
LOCATION:EHB Salle de l'étoile\, Salle de l'étoile\, Pouzauges\, 85700\, 
 France
X-APPLE-STRUCTURED-LOCATION;VALUE=URI;X-ADDRESS=Salle de l'étoile\, Pouzau
 ges\, 85700\, France;X-APPLE-RADIUS=100;X-TITLE=EHB Salle de l'étoile:geo
 :0,0
END:VEVENT
BEGIN:VTIMEZONE
TZID:Europe/Paris
X-LIC-LOCATION:Europe/Paris
BEGIN:STANDARD
DTSTART:20251026T020000
TZOFFSETFROM:+0200
TZOFFSETTO:+0100
TZNAME:CET
END:STANDARD
END:VTIMEZONE
END:VCALENDAR