BEGIN:VCALENDAR
VERSION:2.0
PRODID:-//wp-events-plugin.com//7.2.3.1//EN
TZID:Europe/Paris
X-WR-TIMEZONE:Europe/Paris
BEGIN:VEVENT
UID:273@jegrimpe85.com
DTSTART;TZID=Europe/Paris:20230204T130000
DTEND;TZID=Europe/Paris:20230204T174500
DTSTAMP:20230108T171151Z
URL:https://jegrimpe85.com/events/coupe-microbe-poussin-benjamin-2/
SUMMARY:Coupe microbe\, poussin\, benjamin difficulté
DESCRIPTION:Difficulté\n\nAu club d'escalade du Haut Bocage (Pouzauges)
ATTACH;FMTTYPE=image/jpeg:https://jegrimpe85.com/wp-content/uploads/2019/1
 2/grimpeur_vert.png
CATEGORIES:Compétition
END:VEVENT
BEGIN:VTIMEZONE
TZID:Europe/Paris
X-LIC-LOCATION:Europe/Paris
BEGIN:STANDARD
DTSTART:20221030T020000
TZOFFSETFROM:+0200
TZOFFSETTO:+0100
TZNAME:CET
END:STANDARD
END:VTIMEZONE
END:VCALENDAR