BEGIN:VCALENDAR
VERSION:2.0
PRODID:-//wp-events-plugin.com//7.2.3.1//EN
TZID:Europe/Paris
X-WR-TIMEZONE:Europe/Paris
BEGIN:VEVENT
UID:1299@jegrimpe85.com
DTSTART;TZID=Europe/Paris:20260207T134500
DTEND;TZID=Europe/Paris:20260207T180000
DTSTAMP:20260118T145638Z
URL:https://jegrimpe85.com/events/coupe-jeunes-grimpeurs-vendeens/
SUMMARY:Coupe Jeunes grimpeurs vendéens Aize'Calade
DESCRIPTION:3 eme étape à Aizenay organisée par Aize'Calade (Salle OmEGA
  - 6 Rue Albert Camus\, 85190 Aizenay)\n\nCette épreuve de vitesse  se d
 éroule sur l'après-midi uniquement pour  les U11\, U13 et U15.\n\nLes i
 nscriptions ce font ici : à venir\n\nPour vous y rendre pensez au covoit
 urage.\n\n&nbsp\;
CATEGORIES:Ouvert
LOCATION:Aize'calade - salle OMEGA\, 6 Rue Albert Camus\, Aizenay\, 85190 \
 , France
X-APPLE-STRUCTURED-LOCATION;VALUE=URI;X-ADDRESS=6 Rue Albert Camus\, Aizena
 y\, 85190 \, France;X-APPLE-RADIUS=100;X-TITLE=Aize'calade - salle OMEGA:g
 eo:0,0
END:VEVENT
BEGIN:VTIMEZONE
TZID:Europe/Paris
X-LIC-LOCATION:Europe/Paris
BEGIN:STANDARD
DTSTART:20251026T020000
TZOFFSETFROM:+0200
TZOFFSETTO:+0100
TZNAME:CET
END:STANDARD
END:VTIMEZONE
END:VCALENDAR