BEGIN:VCALENDAR
VERSION:2.0
PRODID:-//wp-events-plugin.com//7.2.3.1//EN
TZID:Europe/Paris
X-WR-TIMEZONE:Europe/Paris
BEGIN:VEVENT
UID:1300@jegrimpe85.com
DTSTART;TZID=Europe/Paris:20260131T094500
DTEND;TZID=Europe/Paris:20260131T180000
DTSTAMP:20260118T150125Z
URL:https://jegrimpe85.com/events/coupe-jeunes-grimpeurs-vendeens-2/
SUMMARY:Coupe Jeunes grimpeurs vendéens Pouzauges
DESCRIPTION:2 eme étape à Pouzauges organisée par l'EHB (Salle de l'Éto
 ile - Rue Buffon\, 85700 Pouzauges)\nCette épreuve de difficulté se dér
 oulera sur la journée complète avec les U11 et U13 le matin puis les U15
  et U17 l'après-midi.\n\nLes inscriptions ce font ici : https://sites.goo
 gle.com/view/ffme-vendee/top-de-vendee-1?authuser=0#h.eleqom7jrvnl\n\nPour
  vous y rendre pensez au covoiturage.\n\n&nbsp\;
CATEGORIES:Ouvert
LOCATION:EHB Salle de l'étoile\, Salle de l'étoile\, Pouzauges\, 85700\, 
 France
X-APPLE-STRUCTURED-LOCATION;VALUE=URI;X-ADDRESS=Salle de l'étoile\, Pouzau
 ges\, 85700\, France;X-APPLE-RADIUS=100;X-TITLE=EHB Salle de l'étoile:geo
 :0,0
END:VEVENT
BEGIN:VTIMEZONE
TZID:Europe/Paris
X-LIC-LOCATION:Europe/Paris
BEGIN:STANDARD
DTSTART:20251026T020000
TZOFFSETFROM:+0200
TZOFFSETTO:+0100
TZNAME:CET
END:STANDARD
END:VTIMEZONE
END:VCALENDAR