BEGIN:VCALENDAR
VERSION:2.0
PRODID:-//wp-events-plugin.com//7.2.3.1//EN
TZID:Europe/Paris
X-WR-TIMEZONE:Europe/Paris
BEGIN:VEVENT
UID:1301@jegrimpe85.com
DTSTART;TZID=Europe/Paris:20260221T134500
DTEND;TZID=Europe/Paris:20260221T180000
DTSTAMP:20260118T151013Z
URL:https://jegrimpe85.com/events/coupe-jeunes-grimpeurs-vendee-yetins-aiz
 ecalade/
SUMMARY:Coupe Jeunes grimpeurs vendéens Yeti
DESCRIPTION:4 eme étape à Aizenay organisée par le YETI (Complexe sporti
 f RIVOLI - Imp. Marengo\, 85000 La Roche-sur-Yon)\n\nCette épreuve de blo
 c se déroule sur l'après-midi uniquement pour  les U11\, U13 et U15.\n\
 nLes inscriptions ce font ici : à venir\n\nPour vous y rendre pensez au 
 covoiturage.\n\n&nbsp\;
CATEGORIES:Ouvert
LOCATION:Salle Rivoli\, Imp. Marengo\, La Roche-sur-Yon\, 85000\, France
X-APPLE-STRUCTURED-LOCATION;VALUE=URI;X-ADDRESS=Imp. Marengo\, La Roche-sur
 -Yon\, 85000\, France;X-APPLE-RADIUS=100;X-TITLE=Salle Rivoli:geo:0,0
END:VEVENT
BEGIN:VTIMEZONE
TZID:Europe/Paris
X-LIC-LOCATION:Europe/Paris
BEGIN:STANDARD
DTSTART:20251026T020000
TZOFFSETFROM:+0200
TZOFFSETTO:+0100
TZNAME:CET
END:STANDARD
END:VTIMEZONE
END:VCALENDAR